BEGIN:VCALENDAR
VERSION:2.0
PRODID:-//wp-events-plugin.com//7.2.3.1//EN
TZID:America/Toronto
X-WR-TIMEZONE:America/Toronto
BEGIN:VEVENT
UID:269@bonsaimontreal.com
DTSTART;TZID=America/Toronto:20190413T093000
DTEND;TZID=America/Toronto:20190413T120000
DTSTAMP:20241025T001927Z
URL:https://bonsaimontreal.com/_activites/2e-grand-happening-de-la-sbpm/
SUMMARY:2e GRAND HAPPENING DE LA SBPM
DESCRIPTION:Le samedi 13 avril aura lieu le 2e Grand happening de la SBP
 M\, pour permettre à ceux qui n’ont pu se déplacer le 23 mars 2019.\n
 \nLa SBPM ouvrira sa boutique au sous-sol du Pavillon japonais pour vos 
 besoins en outils\, pots\, livres et autres articles.\n\nDe plus\, une éq
 uipe sera aussi aux serres Dupire\, 5655 boulevard Pie IX\, Montréal\, 
 (près du boul. Rosemont) pour vos achats en gros format des ingrédients 
 pour le substrat : chabasaï\, haydite\, écorce de pin compostée\, charb
 on de bois et Rich Earth.\n\nPour vous aider à prévoir les quantités do
 nt vous avez besoin\, sachez que le plus gros format de chabasaï a chang
 é \; il n’est plus de 35 litres mais de 28 litres\, ce qui a une incide
 nce sur le combo A. De plus\, le taux de change de l’euro fait en sorte 
 de faire légèrement augmenter le prix du chabasaï.\n\nVoici donc les pr
 ix et formats disponibles :\n– Chabasai : 35 litres (42 $) \n– Chabas
 ai : 14 litres (25 $)\n– Haydite : 14 litres (16 $)\n– Écorce de pin 
 compostée : 56 litres (20 $) \n– Charbon de bois 18 kg (18 $)\n– Ric
 h Earth : 25 kg (100 $)\n \nCombo A : 56 litres (1 x 28 litres de Chabasa
 i + 2 x 14 litres de Haydite) : 68 $\nCombo B : 28 litres (1 x 14 litres d
 e Chabasai + 1 x 14 litres de Haydite) : 36 $\n \n\nNous vous rappelons q
 u’à la boutique il est possible de payer par carte de crédit\, mais qu
 ’aux serres Dupire seuls les chèques ou l’argent comptant sont acc
 eptés et que seuls les membres peuvent payer par chèque.\n\nPour les n
 on-membres\, les prix sont majorés de 50 % et le paiement comptant.\n\nP
 rofitez de cette ouverture spéciale pour vous procurer ce qui vous est n
 écessaire pour finir votre rempotage.\nN.B. :\n\n 	Prendre note qu’à c
 ompter du 1er avril 2019\, le stationnement et l’entrée au Jardin prè
 s de l’Insectarium seront fermés pour une durée de 2 ans. Cause : Tr
 avaux majeurs à l’Insectarium.\n 	Pour le samedi le 13 avril - Grand H
 appening vous devrez stationner au grand stationnement du Pavillon Centra
 l et marcher jusqu’au Pavillon Japonais.\n 	En plus du magasin au Pavill
 on Japonais la SBPM a pris la décision d’ouvrir à nouveau l’entrepô
 t de substrat aux Serres Louis Dupire\, samedi le 13 avril\, rendez- vous
  aux deux endroits entre 9.30 et 12.00 heures.\n 	Comme vous savez nous so
 mmes toujours à l’affut de nouveauté\, parfois nous obtenons quelques 
 pots de Sara Rayner. De magnifique pots\, recherché par plusieurs nous ob
 lige à limiter à 1 pot par membre afin de permettre à tous d’avoir un
 e chance de s’en procurer.\n\n \n    \n\nBon rempotage !
CATEGORIES:Activités sociales
LOCATION:Serres Louis-Dupire\, 5655\, boulevard Pie-IX\, Montréal\, Québe
 c\, Canada
GEO:45.560843;-73.570782
X-APPLE-STRUCTURED-LOCATION;VALUE=URI;X-ADDRESS=5655\, boulevard Pie-IX\, M
 ontréal\, Québec\, Canada;X-APPLE-RADIUS=100;X-TITLE=Serres Louis-Dupire
 :geo:45.560843,-73.570782
END:VEVENT
BEGIN:VTIMEZONE
TZID:America/Toronto
X-LIC-LOCATION:America/Toronto
BEGIN:DAYLIGHT
DTSTART:20190310T030000
TZOFFSETFROM:-0500
TZOFFSETTO:-0400
TZNAME:EDT
END:DAYLIGHT
END:VTIMEZONE
END:VCALENDAR