BEGIN:VCALENDAR
VERSION:2.0
PRODID:-//wp-events-plugin.com//7.2.3.1//EN
TZID:America/Toronto
X-WR-TIMEZONE:America/Toronto
BEGIN:VEVENT
UID:1035@bonsaimontreal.com
DTSTART;TZID=America/Toronto:20250823T010000
DTEND;TZID=America/Toronto:20250824T160000
DTSTAMP:20250809T115933Z
URL:https://bonsaimontreal.com/_activites/atelier-de-fabrication-de-pots-2
 /
SUMMARY:Atelier de fabrication de pots
DESCRIPTION:Vous n’avez pas encore trouvé le pot idéal pour votre bonsa
 ï ou votre penjing... pourquoi ne pas venir le faire vous même ?\n\nL’
 atelier l’Aluminé offre aux membres de la SBPM la possibilité de confe
 ctionner leurs propres pots de bonsaï\, de penjing ou de kusamono. Depuis
  plusieurs années\, cet atelier connaît beaucoup de succès et s’adres
 se à des participant-es quelque soit leur niveau de connaissances en cér
 amique et en bonsaï.\n\nAccompagnés par des spécialistes dans le domain
 e\, les membres auront la possibilité de choisir entre les techniques de 
 pots pincés\, de pots sur tours et ovales\, ou les techniques de façonna
 ge à la plaque (pots par assemblage).\n\nLes membres qui ont déjà parti
 cipé à un atelier de céramique pourront poursuivre leur apprentissage s
 ous la supervision de Marko.\n\nLes ateliers se déroulent sur deux jours 
 et une troisième journée sera mise à l’horaire pour l’émaillage de
  vos pièces.\n\nCet atelier est réservé aux membres de la SBPM.\n\nDate
  :\n\n 	Samedi 23 août 2025 de 10h à 16h\,\n 	dimanche24 août 2025 de 1
 0h à 13h\n 	et une 3ième journée d’émaillage restera à déterminer 
 avec les participants.\n\nEndroit : Atelier l’Aluminé céramique 5500 r
 ue Fullum\, atelier 207\, Montréal.\n\nCoût : 260$ par personne (incluan
 t le matériel requis)\n\nPour plus de détails et s’inscrire\, consulte
 r la page de l’activité.\n\nL’inscription sera possible du 30 juille
 t 2025 8h jusqu’au 21 août inclusivement\, ou jusqu’à l’atteinte d
 u nombre maximal de participants (10).\n\n&nbsp\;\n\nAu plaisir de se renc
 ontrer !\n\n\n\n&nbsp\;
ATTACH;FMTTYPE=image/jpeg:https://bonsaimontreal.com/wp-content/uploads/20
 25/01/341633318_192664310204948_3241470734690027654_n.jpg
CATEGORIES:Ateliers
LOCATION:L'Aluminé Atelier Céramique\, 5500 rue Fullum\, atelier 207\, Mo
 ntréal\, QC\, H2G 2H3\, Canada
GEO:45.5420696;-73.5806804
X-APPLE-STRUCTURED-LOCATION;VALUE=URI;X-ADDRESS=5500 rue Fullum\, atelier 2
 07\, Montréal\, QC\, H2G 2H3\, Canada;X-APPLE-RADIUS=100;X-TITLE=L'Alumin
 é Atelier Céramique:geo:45.5420696,-73.5806804
END:VEVENT
BEGIN:VTIMEZONE
TZID:America/Toronto
X-LIC-LOCATION:America/Toronto
BEGIN:DAYLIGHT
DTSTART:20250309T030000
TZOFFSETFROM:-0500
TZOFFSETTO:-0400
TZNAME:EDT
END:DAYLIGHT
END:VTIMEZONE
END:VCALENDAR