BEGIN:VCALENDAR
VERSION:2.0
PRODID:-//wp-events-plugin.com//7.2.3.1//EN
TZID:America/Toronto
X-WR-TIMEZONE:America/Toronto
BEGIN:VEVENT
UID:1033@bonsaimontreal.com
DTSTART;TZID=America/Toronto:20250802T090000
DTEND;TZID=America/Toronto:20250802T160000
DTSTAMP:20250603T023314Z
URL:https://bonsaimontreal.com/_activites/atelier-de-preparation-a-lexposi
 tion-2-aout-2025/
SUMMARY:Atelier de préparation à l’exposition
DESCRIPTION:Cet atelier de préparation à l’exposition annuelle de la S
 ociété de bonsaï et de penjing de Montréal (SBPM) permet aux participa
 nts d'affiner la présentation de leurs bonsaïs avant l’événement. En
 cadrés par Marie-Claude Tessier et Associés\, ils vous assisteront à af
 finer l’esthétique de vos arbres en utilisant des techniques et méthod
 es adaptées. L’objectif est d’assurer une mise en valeur optimale pou
 r l’exposition qui se tiendra du 5 au 7 septembre 2025.\n\nPour plus de 
 détails et s’inscrire\, consulter la page de l’activité.
ATTACH;FMTTYPE=image/jpeg:https://bonsaimontreal.com/wp-content/uploads/20
 25/06/484226535_3104334169723038_7870360092779233471_n.jpg
CATEGORIES:Ateliers
LOCATION:Jardin botanique de Montréal\, 4101 Rue Sherbrooke E\, Montréal\
 , QC\, H1X 2B2\, Canada
GEO:45.557619;-73.556947
X-APPLE-STRUCTURED-LOCATION;VALUE=URI;X-ADDRESS=4101 Rue Sherbrooke E\, Mon
 tréal\, QC\, H1X 2B2\, Canada;X-APPLE-RADIUS=100;X-TITLE=Jardin botanique
  de Montréal:geo:45.557619,-73.556947
END:VEVENT
BEGIN:VTIMEZONE
TZID:America/Toronto
X-LIC-LOCATION:America/Toronto
BEGIN:DAYLIGHT
DTSTART:20250309T030000
TZOFFSETFROM:-0500
TZOFFSETTO:-0400
TZNAME:EDT
END:DAYLIGHT
END:VTIMEZONE
END:VCALENDAR