BEGIN:VCALENDAR
VERSION:2.0
PRODID:-//wp-events-plugin.com//7.2.3.1//EN
TZID:America/Toronto
X-WR-TIMEZONE:America/Toronto
BEGIN:VEVENT
UID:751@bonsaimontreal.com
DTSTART;TZID=America/Toronto:20250517T090000
DTEND;TZID=America/Toronto:20250517T160000
DTSTAMP:20250124T025945Z
URL:https://bonsaimontreal.com/_activites/atelier-sur-la-ligature-5/
SUMMARY:Atelier sur la ligature
DESCRIPTION:Atelier de perfectionnement sur la ligature donné par Gérard 
 Guyon.\n\nPourquoi doit-on revenir sur la ligature?\n\nNous avons tous des
  problèmes de ligature. Beaucoup d’entre nous ne comprennent pas la m
 écanique et les limites de celle-ci. Le fil de ligature et souvent mal ut
 ilisé\, on ne tient pas compte de l’effet escompté. D’autres n’ont
  pas acquis les connaissances et/ou l’expérience nécessaire.\n\nNous v
 ous proposons un atelier sur le sujet!\n\nPour plus de détails et s’ins
 crire\, consulter la page de l’activité.\n\n&nbsp\;\n\n&nbsp\;
ATTACH;FMTTYPE=image/jpeg:https://bonsaimontreal.com/wp-content/uploads/20
 24/07/ligature.jpg
CATEGORIES:Ateliers
LOCATION:Jardin botanique de Montréal\, 4101 Rue Sherbrooke E\, Montréal\
 , QC\, H1X 2B2\, Canada
GEO:45.557619;-73.556947
X-APPLE-STRUCTURED-LOCATION;VALUE=URI;X-ADDRESS=4101 Rue Sherbrooke E\, Mon
 tréal\, QC\, H1X 2B2\, Canada;X-APPLE-RADIUS=100;X-TITLE=Jardin botanique
  de Montréal:geo:45.557619,-73.556947
END:VEVENT
BEGIN:VTIMEZONE
TZID:America/Toronto
X-LIC-LOCATION:America/Toronto
BEGIN:DAYLIGHT
DTSTART:20250309T030000
TZOFFSETFROM:-0500
TZOFFSETTO:-0400
TZNAME:EDT
END:DAYLIGHT
END:VTIMEZONE
END:VCALENDAR