BEGIN:VCALENDAR
VERSION:2.0
PRODID:-//wp-events-plugin.com//7.2.3.1//EN
TZID:America/Toronto
X-WR-TIMEZONE:America/Toronto
BEGIN:VEVENT
UID:574@bonsaimontreal.com
DTSTART;TZID=America/Toronto:20240419T193000
DTEND;TZID=America/Toronto:20240419T220000
DTSTAMP:20241025T012248Z
URL:https://bonsaimontreal.com/_activites/conference-de-steve-ulrich-sur-l
 es-melezes/
SUMMARY:Conférence de Steve Ulrich sur les mélèzes
DESCRIPTION:Conférence de Steve Ulrich sur les mélèzes le vendredi 19\, 
 de 19 h 30 à 22 h\, à l’auditorium du Jardin botanique\, activité gra
 tuite et ouverte à toutes et tous.\n\nSteve Ulrich est un passionné de b
 onsaïs\, depuis 1999. Il est titulaire d’un certificat en horticulture 
 et gestion des espaces verts de l’Université Laval\, à Québec.\n\nIl 
 a été initié à l’art du bonsaï par Yves Létourneau et il a de plus
  séjourné en Italie pour étudier auprès de Mauro Stemberger. Il a réc
 emment complété une formation de 5 ans sous le mentorat du maître itali
 en Michele Andolfo.\n\nIl est également instructeur certifié par le Coll
 ège national italien des instructeurs de bonsaïs et suiseki (IBS). Il a 
 publié de nombreux articles dans BCI Bonsai &amp\; Stone Magazine et dans
  Bonsai Focus.\n\nConférence à ne pas manquer!
CATEGORIES:Conférences
LOCATION:Auditorium du Jardin botanique de Montréal\, 4101 rue Sherbrooke 
 E\, Montréal\, QC\, H1X 2B2\, Canada
GEO:45.5576037;-73.5569701
X-APPLE-STRUCTURED-LOCATION;VALUE=URI;X-ADDRESS=4101 rue Sherbrooke E\, Mon
 tréal\, QC\, H1X 2B2\, Canada;X-APPLE-RADIUS=100;X-TITLE=Auditorium du Ja
 rdin botanique de Montréal:geo:45.5576037,-73.5569701
END:VEVENT
BEGIN:VTIMEZONE
TZID:America/Toronto
X-LIC-LOCATION:America/Toronto
BEGIN:DAYLIGHT
DTSTART:20240310T030000
TZOFFSETFROM:-0500
TZOFFSETTO:-0400
TZNAME:EDT
END:DAYLIGHT
END:VTIMEZONE
END:VCALENDAR