BEGIN:VCALENDAR
VERSION:2.0
PRODID:-//wp-events-plugin.com//7.2.3.1//EN
TZID:America/Toronto
X-WR-TIMEZONE:America/Toronto
BEGIN:VEVENT
UID:516@bonsaimontreal.com
DTSTART;TZID=America/Toronto:20180504T193000
DTEND;TZID=America/Toronto:20180504T193000
DTSTAMP:20241025T012146Z
URL:https://bonsaimontreal.com/_activites/conference-sur-le-kusamono/
SUMMARY:CONFÉRENCE SUR LE KUSAMONO
DESCRIPTION:Conférence sur le Kusamono donné par Mme Choe le vendredi 4
  mai 2018\, 19 h 30 à l’auditorium du Jardin botanique de Montréal.\n\
 nYoung Choe\, artiste de kusamonos\n\nMadame Young Choe\, artiste américa
 ine de kusamonos\, a étudié la calligraphie et la peinture traditionnell
 e à l’encre de Chine\, en Corée son pays natale\, avant de déménager
  aux États-Unis\, où elle a obtenu un baccalauréat en horticulture de l
 ’Université du Maryland tout en faisant du bénévolat au Musée nation
 al de bonsaï &amp\; penjing à Washington\, DC.\n\n\n\nElle a su mettre e
 n commun son talent artistique et sa connaissance de l’horticulture pour
  créer de fabuleux kusamonos qui sont de plus en plus reconnus dans le mo
 nde entier. Elle a spécialement voyagé au Japon pour étudier cette form
 e d’art unique avec l’artiste de kusamono\, maître Keiko Yamane\, ell
 e-même ancienne élève de maître Saburo Kato dont la réputation n’es
 t plus à faire dans le monde du bonsaï et du penjing.\n\nDans le quotidi
 en\, Mme Choe a travaillé avec des plantes indigènes notamment au dépar
 tement d’agriculture des États-Unis (USDA)\, au Service de Conservation
  des Ressources Naturelles (NRCS) et au ‘’National Plant Materials Cen
 ter’’ à Beltsville au Maryland. Elle était aussi horticultrice spéc
 ialisée en boutures à l’Arboretum National des États-Unis à Beltsvil
 le et c’est à cet endroit qu’elle travaille présentement.\n\n\n\nC
 ’est donc une chance unique que nous avons d’en apprendre plus et d’
 approfondir nos connaissances sur les kusamonos et les shitakusas\, au moi
 s de mai prochain.\n\nNe laissez pas passer cette opportunité!\n\n    
     \n\nOn vous attend en grand nombre!\n\nPour plus d’informations 
 sur Mme Choe : http://www.kusamonochoe.com/\n\nMaintenant les conférence
  sont gratuites et ouverte à tous! Membres et non-membres!\n\nAfin de per
 mettre une plus grande diffusion de l’art du bonsaï\, ce qui fait parti
 e du mandat de la Société\, et peut-être attirer de nouveaux membres\, 
 le conseil d’administration de la SBPM a pris la décision de permettre 
 aux non-membres d’assister gratuitement à nos conférences.\n\nDonc\, d
 orénavant\, vous pourrez inviter vos amis\, les membres de votre famille 
 ou encore vos voisins à venir assister aux conférences\, et partager ave
 c eux votre passion.
CATEGORIES:Conférences
LOCATION:Auditorium du Jardin botanique de Montréal\, 4101 rue Sherbrooke 
 E\, Montréal\, QC\, H1X 2B2\, Canada
GEO:45.5576037;-73.5569701
X-APPLE-STRUCTURED-LOCATION;VALUE=URI;X-ADDRESS=4101 rue Sherbrooke E\, Mon
 tréal\, QC\, H1X 2B2\, Canada;X-APPLE-RADIUS=100;X-TITLE=Auditorium du Ja
 rdin botanique de Montréal:geo:45.5576037,-73.5569701
END:VEVENT
BEGIN:VTIMEZONE
TZID:America/Toronto
X-LIC-LOCATION:America/Toronto
BEGIN:DAYLIGHT
DTSTART:20180311T030000
TZOFFSETFROM:-0500
TZOFFSETTO:-0400
TZNAME:EDT
END:DAYLIGHT
END:VTIMEZONE
END:VCALENDAR