BEGIN:VCALENDAR
VERSION:2.0
PRODID:-//wp-events-plugin.com//7.2.3.1//EN
TZID:America/Toronto
X-WR-TIMEZONE:America/Toronto
BEGIN:VEVENT
UID:1142@bonsaimontreal.com
DTSTART;TZID=America/Toronto:20251028T190000
DTEND;TZID=America/Toronto:20251028T213000
DTSTAMP:20251008T003602Z
URL:https://bonsaimontreal.com/_activites/conference-sur-le-raffinement-du
 -thuya-avec-mike-roussel/
SUMMARY:Conférence sur le raffinement du thuya avec Mike Roussel
DESCRIPTION:Nous aurons le plaisir d’accueillir M. Mike Roussel\, présid
 ent de la Toronto Bonsai Society.\nIl présentera une conférence en Power
 Point sur la culture et le raffinement de thuyas (cèdres) partageant son 
 expertise et ses techniques de mise en forme raffinée.\nEn complément\, 
 M. Roussel réalisera une démonstration en direct sur un spécimen vivant
 \, afin d’illustrer concrètement les principes abordés durant sa prés
 entation.\nEn 2023\, il a remporté le prix du meilleur bonsaï canadien l
 ors du US National Bonsai Exhibition avec son spécimen de Tuya\, preuve d
 e son excellence avec cette espèce.\nCette rencontre s’annonce enrichis
 sante et inspirante pour tous les passionnés de bonsaï.
ATTACH;FMTTYPE=image/jpeg:https://bonsaimontreal.com/wp-content/uploads/20
 25/10/rsw_600h_451cg_true.webp
CATEGORIES:Conférences
LOCATION:Maison de l’arbre Frédéric-Back du Jardin botanique de Montré
 al\, 4500 boulevard Rosemont\, Montréal\, QC\, H1X 2B1\, Canada
GEO:45.564259;-73.568937
X-APPLE-STRUCTURED-LOCATION;VALUE=URI;X-ADDRESS=4500 boulevard Rosemont\, M
 ontréal\, QC\, H1X 2B1\, Canada;X-APPLE-RADIUS=100;X-TITLE=Maison de l’
 arbre Frédéric-Back du Jardin botanique de Montréal:geo:45.564259,-73.5
 68937
END:VEVENT
BEGIN:VTIMEZONE
TZID:America/Toronto
X-LIC-LOCATION:America/Toronto
BEGIN:DAYLIGHT
DTSTART:20250309T030000
TZOFFSETFROM:-0500
TZOFFSETTO:-0400
TZNAME:EDT
END:DAYLIGHT
END:VTIMEZONE
END:VCALENDAR