BEGIN:VCALENDAR
VERSION:2.0
PRODID:-//wp-events-plugin.com//7.2.3.1//EN
TZID:America/Toronto
X-WR-TIMEZONE:America/Toronto
BEGIN:VEVENT
UID:528@bonsaimontreal.com
DTSTART;TZID=America/Toronto:20200225T193000
DTEND;TZID=America/Toronto:20200225T220000
DTSTAMP:20241025T012447Z
URL:https://bonsaimontreal.com/_activites/conference-sur-leclairage/
SUMMARY:CONFÉRENCE SUR L'ÉCLAIRAGE
DESCRIPTION:Le conférencier M. Daniel Moschini vous expliquera  les dif
 férents spectres lumineux des divers types de luminaires.\n\nQuelles sont
  les différences entre Lux\, Lumens et PAR (photosynthetically active rad
 iation) pour mesurer la lumière.\n\nQuels sont les pics d’absorption d
 es caroténoïdes et des chlorophylles a et b lors de la photosynthèse.\n
 \nQualité de la lumière VS quantité de lumière pour la photosynthè
 se.\n\nLes avantages de la lumière DEL peuvent influencer la croissance
  de la plante. La lumière DEL peut faire pousser très vite dans la phase
  végétative (Effet Emerson). Les DEL peuvent influencer le moment de la 
 floraison. Ils peuvent faire fleurir en hiver ou même empêcher la florai
 son en été. Ils peuvent influencer la saveur\, les oxydants\, les vitami
 nes\, l'intensité des parfums ou encore changer les couleurs\, même sur 
 les champignons qui ne font pas de photosynthèse.\n\nM. Daniel Moschini v
 ous  présentera  également une nouvelle technologie : le DEL Sunlike 
 et son nouveau type de spectre.\n\nLors de cette conférence on parlera é
 galement de quelques expériences faites avec des clients qui cultivent de
 s bonsaïs et de leurs résultats avec la technologie DEL.
CATEGORIES:Conférences
LOCATION:Auditorium du Jardin botanique de Montréal\, 4101 rue Sherbrooke 
 E\, Montréal\, QC\, H1X 2B2\, Canada
GEO:45.5576037;-73.5569701
X-APPLE-STRUCTURED-LOCATION;VALUE=URI;X-ADDRESS=4101 rue Sherbrooke E\, Mon
 tréal\, QC\, H1X 2B2\, Canada;X-APPLE-RADIUS=100;X-TITLE=Auditorium du Ja
 rdin botanique de Montréal:geo:45.5576037,-73.5569701
END:VEVENT
BEGIN:VTIMEZONE
TZID:America/Toronto
X-LIC-LOCATION:America/Toronto
BEGIN:STANDARD
DTSTART:20191103T010000
TZOFFSETFROM:-0400
TZOFFSETTO:-0500
TZNAME:EST
END:STANDARD
END:VTIMEZONE
END:VCALENDAR