BEGIN:VCALENDAR
VERSION:2.0
PRODID:-//wp-events-plugin.com//7.2.3.1//EN
TZID:America/Toronto
X-WR-TIMEZONE:America/Toronto
BEGIN:VEVENT
UID:512@bonsaimontreal.com
DTSTART;TZID=America/Toronto:20180130T193000
DTEND;TZID=America/Toronto:20180130T213000
DTSTAMP:20241025T012051Z
URL:https://bonsaimontreal.com/_activites/conference-sur-les-erables/
SUMMARY:CONFÉRENCE SUR LES ÉRABLES
DESCRIPTION:Conférence sur la culture et la formation des érables\, par Y
 ves Létourneau.\n\nLa réputation d’Yves Létourneau n’est plus à fa
 ire\, tant comme bonsaïste que comme producteur. Yves a cultivé un grand
  nombre de variétés d’érables\; ses différentes expériences lui ont
  permis de découvrir les meilleures méthodes de culture\, les substrats 
 idéals et les façons de faire pour des résultats optimaux. Il est donc 
 un des plus qualifiés pour nous informer sur les besoins de ces arbres et
  nous assurer de les cultiver avec succès.\n\nSa conférence portera évi
 demment sur la culture des érables – quand\, où\, comment\, pourquoi?\
 n\nToutes les questions trouveront réponse. Des racines aux branches\, ce
 tte espèce n’aura plus de secrets pour vous.\n\nComment former les éra
 bles\, par la taille ou la ligature ?\nQuand pratiquer les différentes in
 terventions ?\nPourquoi utiliser telle méthode plutôt que telle autre ?\
 nPrévenir les problèmes\, corriger les erreurs !\n\nVous pouvez faire co
 nfiance à Yves pour vous informer adéquatement et partager ses trucs.\n\
 n\n\nOn vous attend en grand nombre!\n\nMaintenant les conférence sont gr
 atuites et ouverte à tous! Membres et non-membres!\n\nAfin de permettre u
 ne plus grande diffusion de l’art du bonsaï\, ce qui fait partie du man
 dat de la Société\, et peut-être attirer de nouveaux membres\, le conse
 il d’administration de la SBPM a pris la décision de permettre aux non-
 membres d’assister gratuitement à nos conférences.\n\nDonc\, dorénava
 nt\, vous pourrez inviter vos amis\, les membres de votre famille ou encor
 e vos voisins à venir assister aux conférences\, et partager avec eux vo
 tre passion.
CATEGORIES:Conférences
LOCATION:Auditorium du Jardin botanique de Montréal\, 4101 rue Sherbrooke 
 E\, Montréal\, QC\, H1X 2B2\, Canada
GEO:45.5576037;-73.5569701
X-APPLE-STRUCTURED-LOCATION;VALUE=URI;X-ADDRESS=4101 rue Sherbrooke E\, Mon
 tréal\, QC\, H1X 2B2\, Canada;X-APPLE-RADIUS=100;X-TITLE=Auditorium du Ja
 rdin botanique de Montréal:geo:45.5576037,-73.5569701
END:VEVENT
BEGIN:VTIMEZONE
TZID:America/Toronto
X-LIC-LOCATION:America/Toronto
BEGIN:STANDARD
DTSTART:20171105T010000
TZOFFSETFROM:-0400
TZOFFSETTO:-0500
TZNAME:EST
END:STANDARD
END:VTIMEZONE
END:VCALENDAR