BEGIN:VCALENDAR
VERSION:2.0
PRODID:-//wp-events-plugin.com//7.2.3.1//EN
TZID:America/Toronto
X-WR-TIMEZONE:America/Toronto
BEGIN:VEVENT
UID:513@bonsaimontreal.com
DTSTART;TZID=America/Toronto:20180227T193000
DTEND;TZID=America/Toronto:20180227T213000
DTSTAMP:20241025T012130Z
URL:https://bonsaimontreal.com/_activites/conference-sur-les-maladies-et-l
 es-insectes/
SUMMARY:CONFÉRENCE SUR LES MALADIES ET LES INSECTES
DESCRIPTION:Raymond Perreault\, nous entretiendra de prévention ainsi que 
 de l’utilisation de méthodes culturales différentes et de produits aya
 nt un faible impact pour l’humain et pour l’environnement.\n\nLe tout 
 ayant pour objectif de réduire au maximum l’utilisation des produits de
  synthèse (chimiques).\n\n\n\n« J’ai fait des études en horticulture 
 et en aménagement paysager.\n\nJe suis producteur en serres depuis 43 ans
  et copropriétaire d’une entreprise offrant des services d’aménageme
 nt paysager et d’entretien paysager depuis 35 ans.\n\nAussi\, ayant eu u
 n centre de jardin pendant 40 ans\, j’ai eu à solutionner pour nos clie
 nts\, plusieurs problèmes concernant leurs plantes : insectes\, maladies\
 , culturales  (biotiques et abiotiques) tout au long de ces années.\n\nC
 omme nous faisons de l’entretien paysager\, nous continuons toujours à 
 identifier ces problèmes et à les solutionner.\n\nIl y a plusieurs anné
 es\, après avoir subi une intoxication avec des produits phytosanitaires\
 , je me suis intéressé beaucoup plus à la prévention\, à l’utilisat
 ion de méthodes culturales différentes et à l’utilisation de produits
  ayant un faible impact pour l’humain et pour l’environnement.  Le to
 ut ayant pour objectif de réduire au maximum l’utilisation des produits
  de synthèse (chimiques).\n\nJe vais donc vous partager mon expérience d
 e producteur\, de service à la clientèle\, de responsable d’équipes d
 ’entretien paysager et de bonsaïste en me basant sur les produits dispo
 nibles aux consommateurs.\n\nContenu :\n\n 	Comment et quand prévenir les
  insectes et maladies\n 	Comment identifier ces problèmes\n 	Faire la dif
 férence entre les dégâts suivants : insectes\, carences\, maladies\n 	C
 omprendre leurs cycles et leurs développements\n 	Méthodes de contrôle\
 n\nIl me fera plaisir de partager avec vous mon expertise et d’échanger
  sur le sujet. »\n\nRaymond Perreault\n\nLe mardi le 27 février 2018 à 
 19 h 30 à l’auditorium du Jardin botanique de Montréal\n\nOn vous atte
 nd en grand nombre!\n\nMaintenant les conférence sont gratuites et ouvert
 e à tous! Membres et non-membres!\n\nAfin de permettre une plus grande di
 ffusion de l’art du bonsaï\, ce qui fait partie du mandat de la Sociét
 é\, et peut-être attirer de nouveaux membres\, le conseil d’administra
 tion de la SBPM a pris la décision de permettre aux non-membres d’assis
 ter gratuitement à nos conférences.\n\nDonc\, dorénavant\, vous pourrez
  inviter vos amis\, les membres de votre famille ou encore vos voisins à 
 venir assister aux conférences\, et partager avec eux votre passion.
CATEGORIES:Conférences
LOCATION:Auditorium du Jardin botanique de Montréal\, 4101 rue Sherbrooke 
 E\, Montréal\, QC\, H1X 2B2\, Canada
GEO:45.5576037;-73.5569701
X-APPLE-STRUCTURED-LOCATION;VALUE=URI;X-ADDRESS=4101 rue Sherbrooke E\, Mon
 tréal\, QC\, H1X 2B2\, Canada;X-APPLE-RADIUS=100;X-TITLE=Auditorium du Ja
 rdin botanique de Montréal:geo:45.5576037,-73.5569701
END:VEVENT
BEGIN:VTIMEZONE
TZID:America/Toronto
X-LIC-LOCATION:America/Toronto
BEGIN:STANDARD
DTSTART:20171105T010000
TZOFFSETFROM:-0400
TZOFFSETTO:-0500
TZNAME:EST
END:STANDARD
END:VTIMEZONE
END:VCALENDAR