BEGIN:VCALENDAR
VERSION:2.0
PRODID:-//wp-events-plugin.com//7.2.3.1//EN
TZID:America/Toronto
X-WR-TIMEZONE:America/Toronto
BEGIN:VEVENT
UID:1132@bonsaimontreal.com
DTSTART;TZID=America/Toronto:20250915T000000
DTEND;TZID=America/Toronto:20250915T000000
DTSTAMP:20250921T121140Z
URL:https://bonsaimontreal.com/_activites/videoconference-avec-michele-and
 olfo/
SUMMARY:Vidéoconférence avec Michele Andolfo
DESCRIPTION:Méthodologie – les priorités dans la culture et dans l’es
 thétique du bonsaï\n(disponible du 15 au 30 septembre 2025)\n\n&nbsp\;\n
 \nVous désirez approfondir votre connaissance du bonsaï et des concepts 
 liés à l’esthétique. Voici une occasion à ne pas manquer !\n\nLa SBP
 M est heureuse de vous annoncer une collaboration avec M. Michele Andolfo\
 , Expert italien et maître de réputation internationale. À cet effet\, 
 6 vidéoconférences seront rendues disponibles au cours de la nouvelle sa
 ison (2025-2026). Le tout sera complété par un stage de deux jours (23 e
 t 24 mai 2026) qui sera offert au Jardin botanique de Montréal en exclusi
 vité pour les membres de la SBPM.\n\nAu cours de la nouvelle saison\, 6 
 vidéoconférences en français seront diffusées gratuitement. Chaque vi
 déoconférence abordera diverses thématiques afin d’approfondir plus e
 n détail les principes et les concepts liés à l’esthétique occidenta
 le.\n\nVoici la liste des sujets abordés au cours de la saison 2025-2026 
 :\n\n 	Méthodologie – les priorités dans la culture et dans l’esthé
 tique du bonsaï\n(disponible du 15 au 30 septembre 2025)\n 	Les styles dr
 oits – les règles de base de l’esthétique\n(disponible du 15 au 30 n
 ovembre 2025)\n 	Introduction à l’esthétique\n(disponible du 15 au 30 
 janvier 2026)\n 	Esthétique – la planification esthétique de base et d
 e composition\n(disponible du 15 au 30 mars 2026)\n 	Application du fil et
  haubanages\n(disponible du 15 au 30 mai 2026)\n 	Esthétique de base – 
 choix du matériel\n(disponible du 15 au 30 juillet 2026)\n\nChaque confé
 rence sera disponible sur demande pour une durée de 15 jours. Quelques jo
 urs avant chaque vidéoconférence\, un lien sera envoyé aux membres acti
 fs de la SBPM.\n\nBonne écoute à tous.\n\nLa direction de la SBPM\n\n&nb
 sp\;
ATTACH;FMTTYPE=image/jpeg:https://bonsaimontreal.com/wp-content/uploads/20
 24/09/michele_andolfo.jpg
CATEGORIES:Conférences
END:VEVENT
BEGIN:VTIMEZONE
TZID:America/Toronto
X-LIC-LOCATION:America/Toronto
BEGIN:DAYLIGHT
DTSTART:20250309T030000
TZOFFSETFROM:-0500
TZOFFSETTO:-0400
TZNAME:EDT
END:DAYLIGHT
END:VTIMEZONE
END:VCALENDAR