BEGIN:VCALENDAR
VERSION:2.0
PRODID:-//wp-events-plugin.com//7.2.3.1//EN
TZID:America/Toronto
X-WR-TIMEZONE:America/Toronto
BEGIN:VEVENT
UID:549@bonsaimontreal.com
DTSTART;TZID=America/Toronto:20211123T193000
DTEND;TZID=America/Toronto:20211123T220000
DTSTAMP:20241025T003413Z
URL:https://bonsaimontreal.com/_activites/videoconference-de-michael-haged
 orn/
SUMMARY:Vidéoconférence de Michael Hagedorn
DESCRIPTION:Le conférencier invité ce mois-ci est Michael Hagedorn\, un e
 xpert américain de bonsaï internationalement réputé de Portland\, Oreg
 on. \n\nMichael a étudié pendant trois ans (2003-2006) auprès de Shinj
 i Suzuki\, l’un des plus grands maîtres de bonsaï au Japon. En 2008\, 
 il a publié un livre au sujet de son apprentissage intitulé « Post-Dat
 ed: the Schooling of an Irreverent Bonsai Monk ».\n\nIl nous parlera des
  thèmes extraits de son dernier ouvrage « Bonsai Heresy: 56 Myths Expos
 ed » (2020). Son propos est de discréditer certaines faussetés et des 
 lignes directrices qui ont été tenues pour acquises depuis très longtem
 ps. \n\nIl nous expliquera donc une nouvelle approche scientifique quant 
 au bonsaï et à l’esthétique du bonsaï. \n\nSa présentation sera di
 visée en 12 sections\; à la suite de chacune il répondra à des questio
 ns envoyées par écrit. À la toute fin de la soirée\, il répondra à d
 es questions de l’audience. \n\nCette conférence offerte en anglais es
 t réservée aux membres en règle de la SBPM seulement.\n\nPour participe
 r à cette activité\, vous serez invité à vous inscrire à une adresse 
 qui vous sera envoyée par courriel.\n\nAprès votre inscription\, vous re
 cevrez un courriel de confirmation contenant les instructions pour rejoind
 re la vidéoconférence.\n\nSachez qu’un délai de quelques jours est po
 ssible avant que vous receviez votre courriel de confirmation.\n\n\n\nNe m
 anquez pas cette fascinante rencontre zoom!\n\nLa direction de la SBPM\n\n
  
CATEGORIES:Conférences
END:VEVENT
BEGIN:VTIMEZONE
TZID:America/Toronto
X-LIC-LOCATION:America/Toronto
BEGIN:STANDARD
DTSTART:20211107T010000
TZOFFSETFROM:-0400
TZOFFSETTO:-0500
TZNAME:EST
END:STANDARD
END:VTIMEZONE
END:VCALENDAR